BEGIN:VCALENDAR
VERSION:2.0
PRODID:-//FFESSM 78 - ECPv6.15.13.1//NONSGML v1.0//EN
CALSCALE:GREGORIAN
METHOD:PUBLISH
X-WR-CALNAME:FFESSM 78
X-ORIGINAL-URL:https://ffessm78.fr
X-WR-CALDESC:Évènements pour FFESSM 78
REFRESH-INTERVAL;VALUE=DURATION:PT1H
X-Robots-Tag:noindex
X-PUBLISHED-TTL:PT1H
BEGIN:VTIMEZONE
TZID:Europe/Paris
BEGIN:DAYLIGHT
TZOFFSETFROM:+0100
TZOFFSETTO:+0200
TZNAME:CEST
DTSTART:20250330T010000
END:DAYLIGHT
BEGIN:STANDARD
TZOFFSETFROM:+0200
TZOFFSETTO:+0100
TZNAME:CET
DTSTART:20251026T010000
END:STANDARD
BEGIN:DAYLIGHT
TZOFFSETFROM:+0100
TZOFFSETTO:+0200
TZNAME:CEST
DTSTART:20260329T010000
END:DAYLIGHT
BEGIN:STANDARD
TZOFFSETFROM:+0200
TZOFFSETTO:+0100
TZNAME:CET
DTSTART:20261025T010000
END:STANDARD
BEGIN:DAYLIGHT
TZOFFSETFROM:+0100
TZOFFSETTO:+0200
TZNAME:CEST
DTSTART:20270328T010000
END:DAYLIGHT
BEGIN:STANDARD
TZOFFSETFROM:+0200
TZOFFSETTO:+0100
TZNAME:CET
DTSTART:20271031T010000
END:STANDARD
END:VTIMEZONE
BEGIN:VEVENT
DTSTART;VALUE=DATE:20260327
DTEND;VALUE=DATE:20260330
DTSTAMP:20260419T184412
CREATED:20260224T063713Z
LAST-MODIFIED:20260224T064023Z
UID:10000195-1774569600-1774828799@ffessm78.fr
SUMMARY:Formation TIV – CIF FFESSM – 27-29 mars 2026
DESCRIPTION:Un stage de formateur de T.I.V. (Technicien d’Inspection Visuel) est organisé du 27 au 29 mars 2026 à Paris au siège du Comité Ile de France\, 60 Rue de Romainville\, 75019 Paris. \nhttps://ffessm78.fr/formation-tiv-cif-ffessm-27-29-mars-2026/ \n 
URL:https://ffessm78.fr/evenement/formation-tiv-cif-ffessm-27-29-mars-2026/
LOCATION:Comité IDF FFESSM\, 60 Rue de Romainville\, PARIS\, 79019\, France
END:VEVENT
END:VCALENDAR